BEGIN:VCALENDAR
VERSION:2.0
PRODID:-//Cloer Family Vineyards - ECPv6.15.20//NONSGML v1.0//EN
CALSCALE:GREGORIAN
METHOD:PUBLISH
X-ORIGINAL-URL:https://www.cloerfamilyvineyards.com
X-WR-CALDESC:Events for Cloer Family Vineyards
REFRESH-INTERVAL;VALUE=DURATION:PT1H
X-Robots-Tag:noindex
X-PUBLISHED-TTL:PT1H
BEGIN:VTIMEZONE
TZID:America/New_York
BEGIN:DAYLIGHT
TZOFFSETFROM:-0500
TZOFFSETTO:-0400
TZNAME:EDT
DTSTART:20240310T070000
END:DAYLIGHT
BEGIN:STANDARD
TZOFFSETFROM:-0400
TZOFFSETTO:-0500
TZNAME:EST
DTSTART:20241103T060000
END:STANDARD
BEGIN:DAYLIGHT
TZOFFSETFROM:-0500
TZOFFSETTO:-0400
TZNAME:EDT
DTSTART:20250309T070000
END:DAYLIGHT
BEGIN:STANDARD
TZOFFSETFROM:-0400
TZOFFSETTO:-0500
TZNAME:EST
DTSTART:20251102T060000
END:STANDARD
BEGIN:DAYLIGHT
TZOFFSETFROM:-0500
TZOFFSETTO:-0400
TZNAME:EDT
DTSTART:20260308T070000
END:DAYLIGHT
BEGIN:STANDARD
TZOFFSETFROM:-0400
TZOFFSETTO:-0500
TZNAME:EST
DTSTART:20261101T060000
END:STANDARD
END:VTIMEZONE
BEGIN:VEVENT
DTSTART;TZID=America/New_York:20251104T183000
DTEND;TZID=America/New_York:20251104T203000
DTSTAMP:20260421T060912
CREATED:20250917T194901Z
LAST-MODIFIED:20250917T194901Z
UID:5495-1762281000-1762288200@www.cloerfamilyvineyards.com
SUMMARY:Holiday Candle Making
DESCRIPTION:Tis the season! We’re teaming up with our friends at Usu Company Candles for a special candle pouring workshop and wine tasting experience! \nDuring your workshop\, you’ll learn about the candle making process and the materials you’ll need\, test and select the fragrance oils for your candle\, and pour a custom-made candle to take home at the end of the day! \nTo register:  https://www.usucompany.com/candle-making-workshops/cloernovember4
URL:https://www.cloerfamilyvineyards.com/event/holiday-candle-making/
LOCATION:Cloer Family Vineyards
ATTACH;FMTTYPE=image/jpeg:https://www.cloerfamilyvineyards.com/wp/wp-content/uploads/2025/09/candle-making.jpeg
END:VEVENT
BEGIN:VEVENT
DTSTART;TZID=America/New_York:20251113T190000
DTEND;TZID=America/New_York:20251113T210000
DTSTAMP:20260421T060912
CREATED:20250801T182307Z
LAST-MODIFIED:20250822T164840Z
UID:5479-1763060400-1763067600@www.cloerfamilyvineyards.com
SUMMARY:Cozy Fall Cookie Decorating Workshop
DESCRIPTION:Join Cloer Family Vineyards and Sugar Sugar as they teach you to decorate this set of 6 Cozy Fall themed sugar cookies! \nAll materials will be provided\, along with step by step instructions. \nTO REGISTER:  https://www.sugarsugarnc.com/shop/p/cozy-fall-cookie-decorating-at-cloer-family-vineyards
URL:https://www.cloerfamilyvineyards.com/event/cookie-decorating-workshop/
LOCATION:Cloer Family Vineyards
ATTACH;FMTTYPE=image/webp:https://www.cloerfamilyvineyards.com/wp/wp-content/uploads/2025/08/fall-cookies.webp
END:VEVENT
BEGIN:VEVENT
DTSTART;TZID=America/New_York:20251115T120000
DTEND;TZID=America/New_York:20251115T140000
DTSTAMP:20260421T060912
CREATED:20250709T165303Z
LAST-MODIFIED:20250709T165303Z
UID:5456-1763208000-1763215200@www.cloerfamilyvineyards.com
SUMMARY:Fall Welcome Sign
DESCRIPTION:Join us and Wine & Design Apex for a fun afternoon of crafting! We will be making fall welcome signs. No artistic talent needed\, just the desire to have fun! \nPlease arrive early between 11:30am – 12:00 pm to order drinks and find your seats! PAINTING BEGINS at 12:00pm\, this event is NOT BYOB. Wine & Design will supply all the painting materials you need to complete your masterpiece. \nTo REGISTER: https://www.wineanddesign.com/calendar/apex-nc/event/on-wheels-cloer-family-vineyards-in-apex-1200pm-2
URL:https://www.cloerfamilyvineyards.com/event/fall-welcome-sign/
LOCATION:Cloer Family Vineyards
ATTACH;FMTTYPE=image/jpeg:https://www.cloerfamilyvineyards.com/wp/wp-content/uploads/2025/07/welcome-sign.jpeg
END:VEVENT
BEGIN:VEVENT
DTSTART;TZID=America/New_York:20251115T140000
DTEND;TZID=America/New_York:20251115T170000
DTSTAMP:20260421T060912
CREATED:20251003T193412Z
LAST-MODIFIED:20251003T194337Z
UID:5508-1763215200-1763226000@www.cloerfamilyvineyards.com
SUMMARY:Saint Nick in the Vineyard
DESCRIPTION:Step into a world of wonder this holiday season at the lovely Cloer Family Vineyards! Join us for a one-of-a-kind Santa Photoshoot that will fill your heart with joy and be the perfect photo for this Holiday season. \nIncludes: \n\nIndividual Session with Santa\n5 edited images (Additional prints available for purchase)\nCost: $375.00/family (up to 6 guests; NO pets)\n\n  \nTo Register:  https://cloerfamilyvineyards.ticketspice.com/saint-nick-in-the-vineyard \nThis is not for Professional Photographers.
URL:https://www.cloerfamilyvineyards.com/event/saint-nick-in-the-vineyard/
LOCATION:Cloer Family Vineyards
ATTACH;FMTTYPE=image/jpeg:https://www.cloerfamilyvineyards.com/wp/wp-content/uploads/2025/10/Kasia-Headley-2-1-scaled.jpg
END:VEVENT
BEGIN:VEVENT
DTSTART;TZID=America/New_York:20251118T183000
DTEND;TZID=America/New_York:20251118T200000
DTSTAMP:20260421T060912
CREATED:20250905T175852Z
LAST-MODIFIED:20250905T175852Z
UID:5491-1763490600-1763496000@www.cloerfamilyvineyards.com
SUMMARY:Modern Calligraphy & Holiday Place Card Lettering
DESCRIPTION:Join Sip & Script for a festive workshop of thankful fun and pretty lettering for beginners! Whether you’re a stationery nerd\, DIY Bride-to-be\, or just a crafty individual\, in this workshop you’ll be learning an introduction to modern calligraphy with a pointed dip pen and ink. We will cover all the basics and get you ready to add those special lettered details to all your Thanksgiving holiday tables with place cards\, menus\, food labels\, bar carts and more! \nClass includes 1.5 hours of instruction and demonstration\, our beginner’s calligraphy kit (two nibs\, black ink pot\, 2 letter guides\, tracing paper and straight pen holder)\, and all materials to write on. Everything is yours to keep at the end of the workshop! Additionally\, we will be creating holiday place cards at the end of our class time! \nTO REGISTER: https://sipandscript.com/event/modern-calligraphy-holiday-place-card-lettering-for-beginners-at-cloer-family-vineyards/
URL:https://www.cloerfamilyvineyards.com/event/modern-calligraphy-holiday-place-card-lettering/
LOCATION:Cloer Family Vineyards
ATTACH;FMTTYPE=image/webp:https://www.cloerfamilyvineyards.com/wp/wp-content/uploads/2025/09/Placecards.webp
END:VEVENT
END:VCALENDAR