BEGIN:VCALENDAR
VERSION:2.0
PRODID:-//Cloer Family Vineyards - ECPv6.15.20//NONSGML v1.0//EN
CALSCALE:GREGORIAN
METHOD:PUBLISH
X-WR-CALNAME:Cloer Family Vineyards
X-ORIGINAL-URL:https://www.cloerfamilyvineyards.com
X-WR-CALDESC:Events for Cloer Family Vineyards
REFRESH-INTERVAL;VALUE=DURATION:PT1H
X-Robots-Tag:noindex
X-PUBLISHED-TTL:PT1H
BEGIN:VTIMEZONE
TZID:America/New_York
BEGIN:DAYLIGHT
TZOFFSETFROM:-0500
TZOFFSETTO:-0400
TZNAME:EDT
DTSTART:20240310T070000
END:DAYLIGHT
BEGIN:STANDARD
TZOFFSETFROM:-0400
TZOFFSETTO:-0500
TZNAME:EST
DTSTART:20241103T060000
END:STANDARD
BEGIN:DAYLIGHT
TZOFFSETFROM:-0500
TZOFFSETTO:-0400
TZNAME:EDT
DTSTART:20250309T070000
END:DAYLIGHT
BEGIN:STANDARD
TZOFFSETFROM:-0400
TZOFFSETTO:-0500
TZNAME:EST
DTSTART:20251102T060000
END:STANDARD
BEGIN:DAYLIGHT
TZOFFSETFROM:-0500
TZOFFSETTO:-0400
TZNAME:EDT
DTSTART:20260308T070000
END:DAYLIGHT
BEGIN:STANDARD
TZOFFSETFROM:-0400
TZOFFSETTO:-0500
TZNAME:EST
DTSTART:20261101T060000
END:STANDARD
END:VTIMEZONE
BEGIN:VEVENT
DTSTART;TZID=America/New_York:20250923T183000
DTEND;TZID=America/New_York:20250923T200000
DTSTAMP:20260421T085836
CREATED:20250711T182705Z
LAST-MODIFIED:20250711T182705Z
UID:5467-1758652200-1758657600@www.cloerfamilyvineyards.com
SUMMARY:Modern Calligraphy & Pumpkin Lettering for Beginners
DESCRIPTION:Join us and Sip & Script for a fun evening! \nWhether you’re a stationery nerd\, DIY Bride-to-be\, or just a crafty individual\, in this workshop you’ll be learning an introduction to modern calligraphy with a pointed dip pen and ink. We will cover all the basics and get you ready to add those special lettered details to all your spooky spreads – think lettered pumpkins at your front door\, on your bar cart\, as a Halloween party hostess gift or special occasion gift! \nClass includes 1.5 hours of instruction and demonstration\, our beginner’s calligraphy kit (two nibs\, black ink pot\, 2 letter guides\, tracing paper and straight pen holder)\, and all materials to write on. Everything is yours to keep at the end of the workshop! Additionally\, we will be lettering on faux pumpkins at the end of our class time! \nTo REGISTER: https://sipandscript.com/event/modern-calligraphy-for-beginners-at-cloer-family-vineyards-2/ \n 
URL:https://www.cloerfamilyvineyards.com/event/modern-calligraphy-pumpkin-lettering-for-beginners/
LOCATION:Cloer Family Vineyards
ATTACH;FMTTYPE=image/webp:https://www.cloerfamilyvineyards.com/wp/wp-content/uploads/2025/07/pumpkin-lettering.webp
END:VEVENT
END:VCALENDAR