BEGIN:VCALENDAR
VERSION:2.0
PRODID:-//Cloer Family Vineyards - ECPv6.15.20//NONSGML v1.0//EN
CALSCALE:GREGORIAN
METHOD:PUBLISH
X-WR-CALNAME:Cloer Family Vineyards
X-ORIGINAL-URL:https://www.cloerfamilyvineyards.com
X-WR-CALDESC:Events for Cloer Family Vineyards
REFRESH-INTERVAL;VALUE=DURATION:PT1H
X-Robots-Tag:noindex
X-PUBLISHED-TTL:PT1H
BEGIN:VTIMEZONE
TZID:America/New_York
BEGIN:DAYLIGHT
TZOFFSETFROM:-0500
TZOFFSETTO:-0400
TZNAME:EDT
DTSTART:20240310T070000
END:DAYLIGHT
BEGIN:STANDARD
TZOFFSETFROM:-0400
TZOFFSETTO:-0500
TZNAME:EST
DTSTART:20241103T060000
END:STANDARD
BEGIN:DAYLIGHT
TZOFFSETFROM:-0500
TZOFFSETTO:-0400
TZNAME:EDT
DTSTART:20250309T070000
END:DAYLIGHT
BEGIN:STANDARD
TZOFFSETFROM:-0400
TZOFFSETTO:-0500
TZNAME:EST
DTSTART:20251102T060000
END:STANDARD
BEGIN:DAYLIGHT
TZOFFSETFROM:-0500
TZOFFSETTO:-0400
TZNAME:EDT
DTSTART:20260308T070000
END:DAYLIGHT
BEGIN:STANDARD
TZOFFSETFROM:-0400
TZOFFSETTO:-0500
TZNAME:EST
DTSTART:20261101T060000
END:STANDARD
END:VTIMEZONE
BEGIN:VEVENT
DTSTART;TZID=America/New_York:20250809T120000
DTEND;TZID=America/New_York:20250809T140000
DTSTAMP:20260421T102525
CREATED:20250709T164431Z
LAST-MODIFIED:20250709T164431Z
UID:5450-1754740800-1754748000@www.cloerfamilyvineyards.com
SUMMARY:Acryllic Wine Glass Pours with Wine & Design Apex
DESCRIPTION:Please join us and Wine & Design Apex for a fun afternoon of painting as we create beautiful wine glasses. No artistic talent needed\, just the desire to have fun! \nPlease arrive early between 11:30-12pm to order drinks and find your seats! PAINTING BEGINS at 12pm\, this event is NOT BYOB. Wine & Design will supply all the painting materials you need to complete your masterpiece. \nTo REGISTER: https://www.wineanddesign.com/calendar/apex-nc/event/on-wheels-cloer-family-vineyards-in-apex-1200pm
URL:https://www.cloerfamilyvineyards.com/event/acryllic-wine-glass-pours-with-wine-design-apex/
LOCATION:Cloer Family Vineyards
ATTACH;FMTTYPE=image/jpeg:https://www.cloerfamilyvineyards.com/wp/wp-content/uploads/2024/07/acrylic-pour-wine-glasses-placeholder.jpg
END:VEVENT
BEGIN:VEVENT
DTSTART;TZID=America/New_York:20250819T183000
DTEND;TZID=America/New_York:20250819T200000
DTSTAMP:20260421T102525
CREATED:20250711T171951Z
LAST-MODIFIED:20250711T171951Z
UID:5465-1755628200-1755633600@www.cloerfamilyvineyards.com
SUMMARY:Modern Calligraphy for Beginners with Sip & Script
DESCRIPTION:Join us and Sip & Script for a fun evening learning how to do modern calligraphy! \nWhether you’re a stationery nerd\, DIY Bride-to-be\, or just a crafty individual\, you’ll be introduced to modern calligraphy with a pointed dip pen and ink in this workshop. We will cover all the basics and prepare you to add those unique lettered details to your snail mail\, wedding paper goods\, home decor\, and more! The perfect crafty night out! \nClass includes 1.5 hours of instruction and demonstration\, our beginner’s calligraphy kit (two nibs\, black ink pot\, 2 letter guides\, tracing paper\, and straight pen holder)\, and all materials to write on. Everything is yours to keep at the end of the workshop! \nTo REGISTER: https://sipandscript.com/event/modern-calligraphy-for-beginners-at-cloer-family-vineyards/
URL:https://www.cloerfamilyvineyards.com/event/modern-calligraphy-for-beginners-with-sip-script/
LOCATION:Cloer Family Vineyards
ATTACH;FMTTYPE=image/webp:https://www.cloerfamilyvineyards.com/wp/wp-content/uploads/2024/07/calligraphy.webp
END:VEVENT
END:VCALENDAR