BEGIN:VCALENDAR
VERSION:2.0
PRODID:-//Cloer Family Vineyards - ECPv6.15.20//NONSGML v1.0//EN
CALSCALE:GREGORIAN
METHOD:PUBLISH
X-WR-CALNAME:Cloer Family Vineyards
X-ORIGINAL-URL:https://www.cloerfamilyvineyards.com
X-WR-CALDESC:Events for Cloer Family Vineyards
REFRESH-INTERVAL;VALUE=DURATION:PT1H
X-Robots-Tag:noindex
X-PUBLISHED-TTL:PT1H
BEGIN:VTIMEZONE
TZID:America/New_York
BEGIN:DAYLIGHT
TZOFFSETFROM:-0500
TZOFFSETTO:-0400
TZNAME:EDT
DTSTART:20240310T070000
END:DAYLIGHT
BEGIN:STANDARD
TZOFFSETFROM:-0400
TZOFFSETTO:-0500
TZNAME:EST
DTSTART:20241103T060000
END:STANDARD
BEGIN:DAYLIGHT
TZOFFSETFROM:-0500
TZOFFSETTO:-0400
TZNAME:EDT
DTSTART:20250309T070000
END:DAYLIGHT
BEGIN:STANDARD
TZOFFSETFROM:-0400
TZOFFSETTO:-0500
TZNAME:EST
DTSTART:20251102T060000
END:STANDARD
BEGIN:DAYLIGHT
TZOFFSETFROM:-0500
TZOFFSETTO:-0400
TZNAME:EDT
DTSTART:20260308T070000
END:DAYLIGHT
BEGIN:STANDARD
TZOFFSETFROM:-0400
TZOFFSETTO:-0500
TZNAME:EST
DTSTART:20261101T060000
END:STANDARD
END:VTIMEZONE
BEGIN:VEVENT
DTSTART;TZID=America/New_York:20250605T183000
DTEND;TZID=America/New_York:20250605T200000
DTSTAMP:20260421T123729
CREATED:20250502T172531Z
LAST-MODIFIED:20250502T172531Z
UID:5436-1749148200-1749153600@www.cloerfamilyvineyards.com
SUMMARY:Creating Ombré Beauty in Bloom
DESCRIPTION:Explore the beauty of color transitions in our Ombré Floral Design Class with Protea Farm! In this hands-on workshop\, you’ll design a breathtaking arrangement that flows seamlessly from soft pastels to bold\, vivid tones—capturing the essence of the ombré style using fresh\, seasonal flowers. \nSip wine\, unwind\, and enjoy the serene setting of Cloer Family Vineyard as you connect with others and get creative. With expert floral guidance\, you’ll dive into color theory\, learn layering techniques\, and pick up styling tips to elevate your design. \nTO REGISTER: https://www.proteafarm.com/event-details/cloer-family-vineyard-creating-ombre-beauty-in-bloom
URL:https://www.cloerfamilyvineyards.com/event/creating-ombre-beauty-in-bloom/
LOCATION:Cloer Family Vineyards
ATTACH;FMTTYPE=image/webp:https://www.cloerfamilyvineyards.com/wp/wp-content/uploads/2025/05/ombrey-flowers.webp
END:VEVENT
BEGIN:VEVENT
DTSTART;TZID=America/New_York:20250614T120000
DTEND;TZID=America/New_York:20250614T140000
DTSTAMP:20260421T123729
CREATED:20250104T154126Z
LAST-MODIFIED:20250104T154126Z
UID:5354-1749902400-1749909600@www.cloerfamilyvineyards.com
SUMMARY:Candle Making
DESCRIPTION:Join us and Usu Company Candles for a fun-filled afternoon of wine and candle making! \nDuring your workshop\, you’ll learn about the candle making process and the materials you’ll need\, test and select the fragrance oils for your candle\, and pour a custom-made candle to take home at the end of the day! \nAs a bonus\, you can choose from a flight of wines that are made right there on the vineyard or a glass of wine from their selection of 5 wines. You’re welcome to bring outside food to enjoy but Cloer also has “Make Your Own Charcuterie Baskets” for purchase with NC products such as cheeses\, salamis\, cheese straws\, cookies\, peanuts and much more. \n\nCandle Making & Wine Flight at Cloer Family Vineyard Tickets Include: \n\n\n8 oz. candle jar \n\n\nComplimentary Wine or Wine Flight \n\n\nFragrance Oil Bar with up to 6 oils to test\, select\, and blend \n\n\nAll candle making materials including 100% vegan Soy wax\, wick\, oils\, etc. \n\n\nHand-on instruction \n\n\nShop from Usu Company Candle line for purchase \n\n\nGift Bag from Usu Company Candles \n\n\n*Optional: Purchase a second vessel to make an additional customized candle. Additional vessels can only be ADDED to a ticket—you cannot purchase individually. \n*Seating is limited. Tickets are non-refundable. Additional Candle Optional. \nTo register:  https://www.usucompany.com/candle-making-workshops/cloerjune
URL:https://www.cloerfamilyvineyards.com/event/candle-making-3/
ATTACH;FMTTYPE=image/jpeg:https://www.cloerfamilyvineyards.com/wp/wp-content/uploads/2024/08/candle-making.jpeg
END:VEVENT
BEGIN:VEVENT
DTSTART;TZID=America/New_York:20250614T160000
DTEND;TZID=America/New_York:20250614T170000
DTSTAMP:20260421T123729
CREATED:20250523T182308Z
LAST-MODIFIED:20250523T182308Z
UID:5441-1749916800-1749920400@www.cloerfamilyvineyards.com
SUMMARY:Paint Your Own Set of Ceramic Thumbprint Wine Tumblers
DESCRIPTION:Join us for a relaxing and creative afternoon at the beautiful Cloer Family Vineyards! In this hands-on workshop\, you’ll paint your own set of handmade ceramic thumbprint wine tumblers—each one perfectly imperfect with a unique dimple for easy sipping and a cozy grip.Hosted by Sawdust & Clay\, this one-hour class includes two bisque-fired tumblers ready for your artistic touch\, along with all the materials you need—paints\, brushes\, and inspiration. No experience necessary—just bring your creativity and enjoy a glass of wine while you paint.Date: Friday\, June 14Time: 4:00–5:00 PMLocation: Cloer Family Vineyards\, Apex\, NCSeats are limited\, so grab a friend and reserve your spot today! Your finished tumblers will be clear glazed and kiln-fired after the event and ready for pickup in 2–3 weeks. \nTO REGISTER:  https://cloerfamilyvineyards.ticketspice.com/paint-your-own-set-of-ceramic-thumbprint-wine-tumblers
URL:https://www.cloerfamilyvineyards.com/event/paint-your-own-set-of-ceramic-thumbprint-wine-tumblers/
LOCATION:Cloer Family Vineyards
ATTACH;FMTTYPE=image/png:https://www.cloerfamilyvineyards.com/wp/wp-content/uploads/2025/05/ChatGPT-Image-May-19-2025-at-09_48_48-AM.png
END:VEVENT
BEGIN:VEVENT
DTSTART;TZID=America/New_York:20250621T120000
DTEND;TZID=America/New_York:20250621T140000
DTSTAMP:20260421T123729
CREATED:20250404T193709Z
LAST-MODIFIED:20250404T193709Z
UID:5419-1750507200-1750514400@www.cloerfamilyvineyards.com
SUMMARY:Painted Wine Glass Workshop
DESCRIPTION:Join us and Wine & Design Apex for another fun workshop! \nNo artistic talent needed\, just the desire to have fun! \nPlease arrive 15-20 minutes early to order drinks and find your seats! PAINTING BEGINS at 12:00pm\, this event is NOT BYOB. Wine & Design will supply all the painting materials you need to complete your masterpiece. \nIf meeting a friend(s) please list the name(s) of attendees in the comment box so we can seat you together. \nPayment is required at the time of registration. If you cannot make your payment online\, you must contact the studio to register with payment options otherwise your seat(s) is not guaranteed. Coupons/discounts not valid. Contact Info | 919-355-2855 | apex@wineanddesign.com \n*CANCELLATION POLICY: All sales final\, NO REFUNDS. We need at least 4+ people to hold a class. If class is subject to cancellation due to low attendance\, you will be contacted and offered a refund\, transfer/reschedule\, or given a credit to attend a future class. The only time we issue a refund is if WE cancel the class due to low registrations. Thank you for your understanding and supporting small business and local artists! No credit for NO SHOWS! \nTO REGISTER: https://www.wineanddesign.com/calendar/apex-nc/event/painted-wine-glasses-on-wheels-cloer-family-vineyard
URL:https://www.cloerfamilyvineyards.com/event/painted-wine-glass-workshop/
LOCATION:Cloer Family Vineyards
ATTACH;FMTTYPE=image/png:https://www.cloerfamilyvineyards.com/wp/wp-content/uploads/2025/04/wine-glasses.png
END:VEVENT
BEGIN:VEVENT
DTSTART;TZID=America/New_York:20250626T180000
DTEND;TZID=America/New_York:20250626T203000
DTSTAMP:20260421T123729
CREATED:20250530T194239Z
LAST-MODIFIED:20250530T202714Z
UID:5444-1750960800-1750969800@www.cloerfamilyvineyards.com
SUMMARY:Picnic in the Vineyard
DESCRIPTION:Please join us for a Picnic Dinner in the Vineyard on June 26th at 6:00 pm. Bring a picnic blanket and enjoy dinner\nspread out in the vineyard or use one of our patio tables. \nBox sandwiches and charcuterie boxes are available for purchase. Tea\, water and lemonade will be provided.\nWine is available for purchase throughout the evening. \n*NO OUTSIDE FOOD OR DRINK\nis allowed to be brought onto the property during this event.* \nAfter you register\, if you need a picnic blanket\, please email us at cloervineyards@bellsouth.net. We have a limited supply available for you to use. \nTo register: https://cloerfamilyvineyards.ticketspice.com/picnic-in-the-vineyard
URL:https://www.cloerfamilyvineyards.com/event/picnic-in-the-vineyard/
LOCATION:Cloer Family Vineyards
ATTACH;FMTTYPE=image/jpeg:https://www.cloerfamilyvineyards.com/wp/wp-content/uploads/2023/05/picnic-vertical.jpg
END:VEVENT
BEGIN:VEVENT
DTSTART;TZID=America/New_York:20250628T090000
DTEND;TZID=America/New_York:20250628T140000
DTSTAMP:20260421T123729
CREATED:20250502T171816Z
LAST-MODIFIED:20250502T171816Z
UID:5434-1751101200-1751119200@www.cloerfamilyvineyards.com
SUMMARY:She FARMS Apex 2025
DESCRIPTION:Ready to trade the hustle and bustle for fresh air\, wide-open fields\, and a taste of rural life? The She FARMS Apex Farm Tour invites you to step onto our working farms\, where you’ll connect with nature\, meet some friendly animals\, and discover the heart of sustainable farming. Perfect for families\, foodies\, or anyone curious about where produce and other commodities come from\, this is your chance to experience the farm life up close! \nDuring the tour\, meet the local women farmers that are the backbone of these thriving farms\, as well as some farm guests\, like master gardeners\, other farm producers\, county extension agents\, and children’s book authors\, just to name a few. Explore fields of juicy berries\, flowers\, grapes\, and Christmas trees. You will be able to hear stories from our farmers about daily life\, sustainable practices\, and the joys of working with nature. Watch some fun animals and bring home a piece of farm life with berries\, flowers\, wine and so much more available to purchase. Join us on a fun and educational adventure! Get your boots dirty\, snap some photos\, and leave with a newfound appreciation for farm-fresh living. \nTO REGISTER:  https://cloerfamilyvineyards.ticketspice.com/she-farms-apex-2025
URL:https://www.cloerfamilyvineyards.com/event/she-farms-apex-2025/
LOCATION:Cloer Family Vineyards
ATTACH;FMTTYPE=image/jpeg:https://www.cloerfamilyvineyards.com/wp/wp-content/uploads/2024/03/she-FARMS.jpg
END:VEVENT
END:VCALENDAR