BEGIN:VCALENDAR
VERSION:2.0
PRODID:-//Cloer Family Vineyards - ECPv6.15.20//NONSGML v1.0//EN
CALSCALE:GREGORIAN
METHOD:PUBLISH
X-ORIGINAL-URL:https://www.cloerfamilyvineyards.com
X-WR-CALDESC:Events for Cloer Family Vineyards
REFRESH-INTERVAL;VALUE=DURATION:PT1H
X-Robots-Tag:noindex
X-PUBLISHED-TTL:PT1H
BEGIN:VTIMEZONE
TZID:America/New_York
BEGIN:DAYLIGHT
TZOFFSETFROM:-0500
TZOFFSETTO:-0400
TZNAME:EDT
DTSTART:20240310T070000
END:DAYLIGHT
BEGIN:STANDARD
TZOFFSETFROM:-0400
TZOFFSETTO:-0500
TZNAME:EST
DTSTART:20241103T060000
END:STANDARD
BEGIN:DAYLIGHT
TZOFFSETFROM:-0500
TZOFFSETTO:-0400
TZNAME:EDT
DTSTART:20250309T070000
END:DAYLIGHT
BEGIN:STANDARD
TZOFFSETFROM:-0400
TZOFFSETTO:-0500
TZNAME:EST
DTSTART:20251102T060000
END:STANDARD
BEGIN:DAYLIGHT
TZOFFSETFROM:-0500
TZOFFSETTO:-0400
TZNAME:EDT
DTSTART:20260308T070000
END:DAYLIGHT
BEGIN:STANDARD
TZOFFSETFROM:-0400
TZOFFSETTO:-0500
TZNAME:EST
DTSTART:20261101T060000
END:STANDARD
END:VTIMEZONE
BEGIN:VEVENT
DTSTART;TZID=America/New_York:20250315T120000
DTEND;TZID=America/New_York:20250315T130000
DTSTAMP:20260421T081013
CREATED:20250207T172131Z
LAST-MODIFIED:20250207T172131Z
UID:5384-1742040000-1742043600@www.cloerfamilyvineyards.com
SUMMARY:Pottery Wine Glass Charms
DESCRIPTION:Join Sawdust & Clay potter\, Amy Bishop\, for a fun and creative ceramic class where you’ll craft your own unique set of wine glass charms! \nIn this hands-on workshop\, you’ll learn basic ceramic techniques to shape\, design\, and paint small charms that can be attached to wine glass stems. Choose from a variety of shapes – like hearts\, stars\, or custom designs – to make your set truly one-of-a-kind. This workshop is perfect for beginners and experienced potters. Pieces will be fired and available for pick up 3 weeks after class. \nTo register: https://cloerfamilyvineyards.ticketspice.com/pottery-wine-charms
URL:https://www.cloerfamilyvineyards.com/event/pottery-wine-glass-charms/
LOCATION:Cloer Family Vineyards
ATTACH;FMTTYPE=image/webp:https://www.cloerfamilyvineyards.com/wp/wp-content/uploads/2025/02/Wine-Charm-Class-1.webp
END:VEVENT
BEGIN:VEVENT
DTSTART;TZID=America/New_York:20250322T120000
DTEND;TZID=America/New_York:20250322T140000
DTSTAMP:20260421T081013
CREATED:20250104T155817Z
LAST-MODIFIED:20250104T155817Z
UID:5361-1742644800-1742652000@www.cloerfamilyvineyards.com
SUMMARY:Acryllic Pour Wine Glasses
DESCRIPTION:Join Cloer Family Vineyards and Wine& Design Apex for a fun afternoon making acryllic pour wine glasses! \nCreate you own set of TWO Acrylic Pour Wine Glasses! Choose Your Colors! No artistic talent needed\, just the desire to have fun! *This class may only take 45min-1 hour. Your wine glasses will be very wet after class and you will leave your glasses to dry. Please allow 7-10 days for your glasses to be ready for pick-up at Wine & Design Apex (5456 Apex Peakway\, Apex\, NC). WE WILL CONTACT YOU when they are ready. All projects must be picked up within 30 days! \nWINE IS NOT INCLUDED. Cloer Wine is available for purchase along with snacks such as cheese and cracker plates. This event is NOT BYOB. Support local wines! \nTo register:  https://www.wineanddesign.com/calendar/apex-nc/event/on-wheels-cloer-family-vineyards-acrylic-pour-wine-glasses-1200pm- \n**Must Register 03/18/25! by EVENT LOCATION: Join the pARTy ON WHEELS at CLOER FAMILY VINEYARDS in Apex! No artistic talent needed\, just the desire to have fun!
URL:https://www.cloerfamilyvineyards.com/event/acryllic-pour-wine-glasses-3/
LOCATION:Cloer Family Vineyards
ATTACH;FMTTYPE=image/jpeg:https://www.cloerfamilyvineyards.com/wp/wp-content/uploads/2023/05/acrylic-pour-wine-glasses-placeholder.jpeg
END:VEVENT
END:VCALENDAR