BEGIN:VCALENDAR
VERSION:2.0
PRODID:-//Cloer Family Vineyards - ECPv6.15.20//NONSGML v1.0//EN
CALSCALE:GREGORIAN
METHOD:PUBLISH
X-WR-CALNAME:Cloer Family Vineyards
X-ORIGINAL-URL:https://www.cloerfamilyvineyards.com
X-WR-CALDESC:Events for Cloer Family Vineyards
REFRESH-INTERVAL;VALUE=DURATION:PT1H
X-Robots-Tag:noindex
X-PUBLISHED-TTL:PT1H
BEGIN:VTIMEZONE
TZID:America/New_York
BEGIN:DAYLIGHT
TZOFFSETFROM:-0500
TZOFFSETTO:-0400
TZNAME:EDT
DTSTART:20240310T070000
END:DAYLIGHT
BEGIN:STANDARD
TZOFFSETFROM:-0400
TZOFFSETTO:-0500
TZNAME:EST
DTSTART:20241103T060000
END:STANDARD
BEGIN:DAYLIGHT
TZOFFSETFROM:-0500
TZOFFSETTO:-0400
TZNAME:EDT
DTSTART:20250309T070000
END:DAYLIGHT
BEGIN:STANDARD
TZOFFSETFROM:-0400
TZOFFSETTO:-0500
TZNAME:EST
DTSTART:20251102T060000
END:STANDARD
BEGIN:DAYLIGHT
TZOFFSETFROM:-0500
TZOFFSETTO:-0400
TZNAME:EDT
DTSTART:20260308T070000
END:DAYLIGHT
BEGIN:STANDARD
TZOFFSETFROM:-0400
TZOFFSETTO:-0500
TZNAME:EST
DTSTART:20261101T060000
END:STANDARD
END:VTIMEZONE
BEGIN:VEVENT
DTSTART;TZID=America/New_York:20250206T183000
DTEND;TZID=America/New_York:20250206T200000
DTSTAMP:20260421T064133
CREATED:20250113T134258Z
LAST-MODIFIED:20250113T134258Z
UID:5372-1738866600-1738872000@www.cloerfamilyvineyards.com
SUMMARY:Gallentine's Flower Design: BFF's and Bouquets
DESCRIPTION:Celebrate Galentine’s Day with Cloer Family Vineyards and Protea Farm! Protea Farm will share the love of flowers in a fun and lively atmosphere! Brighten your home with a beautiful bouquet featuring roses\, tulips\, and other delicate blooms arranged in a garden and gathered style of arranging. Learn professional arranging techniques and discover unique floral varieties that will spark your creativity. In this cozy\, flower-filled class\, you’ll create elegant arrangements featuring lush roses\, whimsical tulips\, and soft greenery. Sip wine\, enjoy this beautiful location\, and share a great time with friends. \nTO REGISTER:  https://www.proteafarm.com/event-details/cloer-family-vineyard-apex-gallentines-flower-design-bffs-and-bouquets
URL:https://www.cloerfamilyvineyards.com/event/gallentines-flower-design-bffs-and-bouquets/
ATTACH;FMTTYPE=image/webp:https://www.cloerfamilyvineyards.com/wp/wp-content/uploads/2025/01/Bouquet.webp
END:VEVENT
BEGIN:VEVENT
DTSTART;TZID=America/New_York:20250208T120000
DTEND;TZID=America/New_York:20250208T140000
DTSTAMP:20260421T064133
CREATED:20250104T153426Z
LAST-MODIFIED:20250104T153426Z
UID:5350-1739016000-1739023200@www.cloerfamilyvineyards.com
SUMMARY:Candle Making
DESCRIPTION:Join Usu Company Candles and Cloer Family Vineyards for a fun filled afternoon of wine and candle making! \nDuring your workshop\, you’ll learn about the candle making process and the materials you’ll need\, test and select the fragrance oils for your candle\, and pour a custom-made candle to take home at the end of the day! \nAs a bonus\, you can choose from a flight of wines that are made right there on the vineyard or a glass of wine from their selection of 5 wines. You’re welcome to bring outside food to enjoy but Cloer also has “Make Your Own Charcuterie Baskets” for purchase with NC products such as cheeses\, salamis\, cheese straws\, cookies\, peanuts and much more. \n\nCandle Making & Wine Flight at Cloer Family Vineyard Tickets Include: \n\n\n8 oz. candle jar \n\n\nComplimentary Wine or Wine Flight \n\n\nFragrance Oil Bar with up to 6 oils to test\, select\, and blend \n\n\nAll candle making materials including 100% vegan Soy wax\, wick\, oils\, etc. \n\n\nHand-on instruction \n\n\nShop from Usu Company Candle line for purchase \n\n\nGift Bag from Usu Company Candles \n\n\n*Optional: Purchase a second vessel to make an additional customized candle. Additional vessels can only be ADDED to a ticket—you cannot purchase individually. \n*Seating is limited. Tickets are non-refundable. Additional Candle Optional. \nTo register:  https://www.usucompany.com/candle-making-workshops/cloerfebruary
URL:https://www.cloerfamilyvineyards.com/event/candle-making/
LOCATION:Cloer Family Vineyards
ATTACH;FMTTYPE=image/jpeg:https://www.cloerfamilyvineyards.com/wp/wp-content/uploads/2024/08/candle-making.jpeg
END:VEVENT
BEGIN:VEVENT
DTSTART;TZID=America/New_York:20250213T190000
DTEND;TZID=America/New_York:20250213T210000
DTSTAMP:20260421T064133
CREATED:20250114T221603Z
LAST-MODIFIED:20250114T221603Z
UID:5375-1739473200-1739480400@www.cloerfamilyvineyards.com
SUMMARY:Valentine's Cookie Class
DESCRIPTION:Grab a friend\, your significant other\, or treat yourself and join Cloer Family Vineyards and Sugar Sugar Custom Cakes on Thursday\, February 13th to decorate this Valentine’s cookie set! \nRegister here: https://www.sugarsugarnc.com/shop/p/valentines-cookie-class-at-cloer-family-vineyards \nWe supply all the cookies\, icing\, sprinkles\, and tools we’ll need\, plus provide expert hands on step by step instructions to guide you through decorating all six cookies. \nThe fine print:\n-Everyone attending must have a paid registration and will be decorating their own set of cookies\n-Each registration fee includes one complimentary beverage per person from Cloer’s tasting room (*must be 21+ to order wine)\n-No refunds/credits will be given for cancellations within 2 weeks of the class. If you are unable to attend class for any reason\, you may choose to pass your seat to a friend\, or to pick up your class set as a DIY kit to complete at home.
URL:https://www.cloerfamilyvineyards.com/event/valentines-cookie-class/
LOCATION:Cloer Family Vineyards
ATTACH;FMTTYPE=image/jpeg:https://www.cloerfamilyvineyards.com/wp/wp-content/uploads/2025/01/Val-cookies.jpeg
END:VEVENT
BEGIN:VEVENT
DTSTART;TZID=America/New_York:20250214T120000
DTEND;TZID=America/New_York:20250215T170000
DTSTAMP:20260421T064133
CREATED:20250125T164648Z
LAST-MODIFIED:20250125T164752Z
UID:5379-1739534400-1739638800@www.cloerfamilyvineyards.com
SUMMARY:Wine & Chocolate Pairing
DESCRIPTION:Join us as we celebrate LOVE. A love for wine. A love for chocolate. A love for our family and friends. \nWe will pair all five of our wines with handmade chocolates from Sweet Fix in Pittsboro\, NC! \nPairings: \n\nVeranda with White Chocolate Lemon\nRiesling with White Raspberry Cheesecake\nMatador with Dark Chocolate Mint\nCarlos with Dark Chocolate Sea Salt Caramel\nNoble with Dark Chocolate Raspberry\n\nRegistrations are encouraged!!! To register: https://cloerfamilyvineyards.ticketspice.com/wine-chocolate-pairning
URL:https://www.cloerfamilyvineyards.com/event/wine-chocolate-pairing/
LOCATION:Cloer Family Vineyards
ATTACH;FMTTYPE=image/jpeg:https://www.cloerfamilyvineyards.com/wp/wp-content/uploads/2023/03/glasses-row.jpeg
END:VEVENT
BEGIN:VEVENT
DTSTART;TZID=America/New_York:20250222T120000
DTEND;TZID=America/New_York:20250222T143000
DTSTAMP:20260421T064133
CREATED:20250104T155231Z
LAST-MODIFIED:20250104T155231Z
UID:5359-1740225600-1740234600@www.cloerfamilyvineyards.com
SUMMARY:Chunky Knit Blankets
DESCRIPTION:Join Cloer Family Vineyards and Wine & Design Apex for a fun-filled afternoon learning how to make chunky knit blankets! No experience required! \nCLASS BEGINS at 12:00pm\, this event is NOT BYOB. Support local wines! Cloer Family Vineyards offers $6 glasses and wine flights\, or buy a bottle to share with friends! Snacks also available for purchase. \nTo register: https://www.wineanddesign.com/calendar/apex-nc/event/chunky-blankets-at-cloer-vineyards-1200-230pm-1 \nMust Register by 02/16/25! Join the pARTy ON WHEELS at CLOER FAMILY VINEYARDS in Apex!
URL:https://www.cloerfamilyvineyards.com/event/chunky-knit-blankets-2/
ATTACH;FMTTYPE=image/png:https://www.cloerfamilyvineyards.com/wp/wp-content/uploads/2025/01/blanket.png
END:VEVENT
END:VCALENDAR