BEGIN:VCALENDAR
VERSION:2.0
PRODID:-//Cloer Family Vineyards - ECPv6.15.20//NONSGML v1.0//EN
CALSCALE:GREGORIAN
METHOD:PUBLISH
X-ORIGINAL-URL:https://www.cloerfamilyvineyards.com
X-WR-CALDESC:Events for Cloer Family Vineyards
REFRESH-INTERVAL;VALUE=DURATION:PT1H
X-Robots-Tag:noindex
X-PUBLISHED-TTL:PT1H
BEGIN:VTIMEZONE
TZID:America/New_York
BEGIN:DAYLIGHT
TZOFFSETFROM:-0500
TZOFFSETTO:-0400
TZNAME:EDT
DTSTART:20230312T070000
END:DAYLIGHT
BEGIN:STANDARD
TZOFFSETFROM:-0400
TZOFFSETTO:-0500
TZNAME:EST
DTSTART:20231105T060000
END:STANDARD
BEGIN:DAYLIGHT
TZOFFSETFROM:-0500
TZOFFSETTO:-0400
TZNAME:EDT
DTSTART:20240310T070000
END:DAYLIGHT
BEGIN:STANDARD
TZOFFSETFROM:-0400
TZOFFSETTO:-0500
TZNAME:EST
DTSTART:20241103T060000
END:STANDARD
BEGIN:DAYLIGHT
TZOFFSETFROM:-0500
TZOFFSETTO:-0400
TZNAME:EDT
DTSTART:20250309T070000
END:DAYLIGHT
BEGIN:STANDARD
TZOFFSETFROM:-0400
TZOFFSETTO:-0500
TZNAME:EST
DTSTART:20251102T060000
END:STANDARD
END:VTIMEZONE
BEGIN:VTIMEZONE
TZID:UTC
BEGIN:STANDARD
TZOFFSETFROM:+0000
TZOFFSETTO:+0000
TZNAME:UTC
DTSTART:20230101T000000
END:STANDARD
END:VTIMEZONE
BEGIN:VEVENT
DTSTART;TZID=America/New_York:20241019T120000
DTEND;TZID=America/New_York:20241019T140000
DTSTAMP:20260421T123941
CREATED:20240823T163721Z
LAST-MODIFIED:20240823T163721Z
UID:5304-1729339200-1729346400@www.cloerfamilyvineyards.com
SUMMARY:Resin Pumpkin Charcuterie Board
DESCRIPTION:Join the pARTy ON WHEELS at CLOER FAMILY VINEYARDS in Apex! No artistic talent needed\, just the desire to have fun! \nCLASS BEGINS at 12:00pm\, this event is NOT BYOB. Wine & Design will supply all the painting supplies\, resin\, materials and artist instruction for you need to complete your food-safe resin PUMPKIN serving board. Choose ANY colors! You will leave to boards to dry and we will contact you when they are ready to pick up at Wine & Design’s studio the following week! \nTO REGISTER:  https://www.wineanddesign.com/calendar/apex-nc/event/on-wheels-cloer-family-vineyards-pumpkin-resin-boards \nMUST REGISTER BY 10/9/24!
URL:https://www.cloerfamilyvineyards.com/event/resin-pumpkin-charcuterie-board/
ATTACH;FMTTYPE=image/png:https://www.cloerfamilyvineyards.com/wp/wp-content/uploads/2024/08/resin-pumpkin.png
END:VEVENT
BEGIN:VEVENT
DTSTART;TZID=America/New_York:20241024T180000
DTEND;TZID=America/New_York:20241024T203000
DTSTAMP:20260421T123941
CREATED:20240823T175053Z
LAST-MODIFIED:20240823T175053Z
UID:5311-1729792800-1729801800@www.cloerfamilyvineyards.com
SUMMARY:Harvest Dinner in the Vineyard
DESCRIPTION:Come join us as we Celebrate Harvest with a four course dinner in the vineyard! This event will be outside\, weather permitting\, so please dress approprately. \nDinner includes: appetizers\, strawberry feta salad\, pork tenderloin with apple/walnut stuffing\, leg of lamb roast with cabernet sauce\, redskin mashed potatoes\, green bean almandine\, yeast rolls and cornbread with apple butter/pumpkin butter and one glass of wine. And\, if you have room\, dessert! There is lots of food\, so please come hungry! \nAdditional wine can be purchased throughout the night. \nTickets are limited\, so please register early! TO REGISTER: https://cloerfamilyvineyards.ticketspice.com/harvest-dinner-
URL:https://www.cloerfamilyvineyards.com/event/harvest-dinner-in-the-vineyard-2/
ATTACH;FMTTYPE=image/jpeg:https://www.cloerfamilyvineyards.com/wp/wp-content/uploads/2023/10/IMG_6316-rotated.jpg
END:VEVENT
BEGIN:VEVENT
DTSTART;TZID=UTC:20241026T090000
DTEND;TZID=UTC:20241026T173000
DTSTAMP:20260421T123941
CREATED:20240919T005431Z
LAST-MODIFIED:20241018T180426Z
UID:5316-1729933200-1729963800@www.cloerfamilyvineyards.com
SUMMARY:Fall in Vineyard Photoshoot
DESCRIPTION:Join us as we celebrate fall in the vineyards with a special photoshoot. \n\n10 minute session in the Pickup truck (filled with pumpkins)\n5 edited images (emailed 10 days after the shoot)\nAdditional photos may be purchased.\nFamilies should arrive dressed and check-in 15 prior to their session time.\nFive person maximum per session.\nNO pets are allowed.\nEach adult will get a glass of Sangaria and kids will get a special treat.\n\n\n\n                \n                        Available timesots(Required)\n			\n					\n					9:15 am\n			\n			\n					\n					10:00 am\n			\n			\n					\n					10:15 am\n			\n			\n					\n					10:30 am\n			\n			\n					\n					10:45 am\n			\n			\n					\n					11:00 am\n			\n			\n					\n					11:15 am\n			\n			\n					\n					11:45 am\n			\n			\n					\n					12:00 am\n			\n			\n					\n					2:30 pm\n			\n			\n					\n					2:45 pm\n			\n			\n					\n					3:00 pm\n			\n			\n					\n					3:15 pm\n			\n			\n					\n					3:30 pm\n			\n			\n					\n					3:45 pm\n			\n			\n					\n					4:00 pm\n			\n			\n					\n					4:30 pm\n			\n			\n					\n					4:45 pm\n			\n			\n					\n					5:00 pm\n			\n			\n					\n					5:15 pm\n			\n			\n					\n					5:30 pm\n			Name\n                            \n                            \n                                                    \n                                                    First\n                                                \n                            \n                            \n                                                    \n                                                    Last\n                                                \n                            \n                        Email\n                            \n                        PhoneHow many adults will be photographed?How many children will be photographed?Is there anything else we should know?Fall in the Vineyard Photoshoot (with Transaction Fees)\n					\n					\n						Price:\n						\n					\n					\n				Payment Method(Required)PayPal CheckoutCredit Card\n                                    MasterCardVisaSupported Credit Cards: MasterCard\, Visa\n                                    \n                                    Card Number\n                                 \n                                            \n                                                \n                                                Expiration Date\n                                            \n                                                \n                                                 \n                                                Security Code\n                                             \n                                        \n                                            \n                                            Cardholder Name\n                                         CAPTCHA
URL:https://www.cloerfamilyvineyards.com/event/fall-in-vineyard-photoshoot-2/
ATTACH;FMTTYPE=image/jpeg:https://www.cloerfamilyvineyards.com/wp/wp-content/uploads/2024/09/IMG_7430-rotated.jpg
END:VEVENT
END:VCALENDAR