BEGIN:VCALENDAR
VERSION:2.0
PRODID:-//Cloer Family Vineyards - ECPv6.15.20//NONSGML v1.0//EN
CALSCALE:GREGORIAN
METHOD:PUBLISH
X-ORIGINAL-URL:https://www.cloerfamilyvineyards.com
X-WR-CALDESC:Events for Cloer Family Vineyards
REFRESH-INTERVAL;VALUE=DURATION:PT1H
X-Robots-Tag:noindex
X-PUBLISHED-TTL:PT1H
BEGIN:VTIMEZONE
TZID:America/New_York
BEGIN:DAYLIGHT
TZOFFSETFROM:-0500
TZOFFSETTO:-0400
TZNAME:EDT
DTSTART:20230312T070000
END:DAYLIGHT
BEGIN:STANDARD
TZOFFSETFROM:-0400
TZOFFSETTO:-0500
TZNAME:EST
DTSTART:20231105T060000
END:STANDARD
BEGIN:DAYLIGHT
TZOFFSETFROM:-0500
TZOFFSETTO:-0400
TZNAME:EDT
DTSTART:20240310T070000
END:DAYLIGHT
BEGIN:STANDARD
TZOFFSETFROM:-0400
TZOFFSETTO:-0500
TZNAME:EST
DTSTART:20241103T060000
END:STANDARD
BEGIN:DAYLIGHT
TZOFFSETFROM:-0500
TZOFFSETTO:-0400
TZNAME:EDT
DTSTART:20250309T070000
END:DAYLIGHT
BEGIN:STANDARD
TZOFFSETFROM:-0400
TZOFFSETTO:-0500
TZNAME:EST
DTSTART:20251102T060000
END:STANDARD
END:VTIMEZONE
BEGIN:VEVENT
DTSTART;TZID=America/New_York:20240801T190000
DTEND;TZID=America/New_York:20240801T210000
DTSTAMP:20260421T152955
CREATED:20240701T163854Z
LAST-MODIFIED:20240701T164041Z
UID:5277-1722538800-1722546000@www.cloerfamilyvineyards.com
SUMMARY:Beginner Calligraphy at Cloer Family Vineyards
DESCRIPTION:Join Sip & Script® for a Night of Learning Calligraphy!\nJoin us at Cloer Family Vineyards in Apex\, NC for pretty lettering! Whether you’re a stationery nerd\, DIY Bride-to-be\, or just a crafty individual\, in this workshop you’ll be learning an introduction to modern calligraphy with a pointed dip pen and ink. We will cover all the basics and get you ready to add those special lettered details to your snail mail\, wedding paper goods\, home decor and more! The perfect crafty night out! \nClass includes 1.5 hours of instruction and demonstration\, our beginner’s calligraphy kit (two nibs\, black ink pot\, 2 letter guides\, tracing paper and straight pen holder)\, and all materials to write on. Everything is yours to keep at the end of the workshop! \nFeel free to come early\, grab your seat\, and purchase any drinks (drinks available to purchase throughout class too!). Class will start promptly at 7:00PM!  \nClass Expectations: Yes\, lefties are welcome too! This class is encouraged for someone who has never taken a calligraphy class before. We teach the basics and our expectation for you is to have ink flowing through your nib with enough confidence to be able to practice way beyond class. We love using tracing paper with our guides to help you build muscle memory and develop your own style!  If you have tried calligraphy out before\, this class will be a great refresher and hopefully a chance to try some new supplies from our beginner kit that will re-introduce you to this lovely form of art! \nA note on bringing guests 16 and under: We love to share this passion with kids. You are welcome to get a ticket for your child as long as you are comfortable with people around them having a drink or two. We do ask that anyone under the age of 16 is to be accompanied by a ticketed adult at all times. \nTo Register: https://sipandscript.com/event/beginner-calligraphy-at-cloer-family-vineyards-2/
URL:https://www.cloerfamilyvineyards.com/event/beginner-calligraphy-at-cloer-family-vineyards/
ATTACH;FMTTYPE=image/webp:https://www.cloerfamilyvineyards.com/wp/wp-content/uploads/2024/07/calligraphy.webp
END:VEVENT
BEGIN:VEVENT
DTSTART;TZID=America/New_York:20240817T120000
DTEND;TZID=America/New_York:20240817T140000
DTSTAMP:20260421T152955
CREATED:20240701T163252Z
LAST-MODIFIED:20240701T163252Z
UID:5274-1723896000-1723903200@www.cloerfamilyvineyards.com
SUMMARY:Acryllic Pour Wine Glasses
DESCRIPTION:Join the pARTy ON WHEELS at CLOER FAMILY VINEYARDS in Apex! No artistic talent needed\, just the desire to have fun! \nWINE IS NOT INCLUDED. Cloer Wine Specials: $6 Wine Flights & $6 per glass! Snacks such as cheese and cracker plates are also available to purchase. This event is NOT BYOB. Support local wines! \nCreate you own set of TWO Acrylic Pour Wine Glasses! Choose Your Colors! No artistic talent needed\, just the desire to have fun! *This class may only take 45min-1 hour. Your wine glasses will be very wet after class and you will leave your glasses to dry. Please allow 7-10 days for your glasses to be ready for pick-up at Wine & Design Apex (5456 Apex Peakway\, Apex\, NC). WE WILL CONTACT YOU when they are ready. All projects must be picked up within 30 days! \nIf meeting a friend(s) please list the NAME(S) OF ATTENDEES in the “Comment Box” so we can seat you together. If you sign-up on your phone\, this box does not show up- so please email apex@wineanddesign.com to confirm your seating requests. \nIF YOU HAVE A CREDIT OR GIFT CERTIFICATE: Please email apex@wineanddesign.com or call 919-355-2855 to register via email/phone. \nSpecialty Event: COUPONS NOT VALID. \nTo Register:  https://www.wineanddesign.com/calendar/apex-nc/event/on-wheels-cloer-family-vineyards-in-apex-acrylic-pour-wine-glasses-1200pm-3
URL:https://www.cloerfamilyvineyards.com/event/acryllic-pour-wine-glasses/
ATTACH;FMTTYPE=image/jpeg:https://www.cloerfamilyvineyards.com/wp/wp-content/uploads/2024/07/acrylic-pour-wine-glasses-placeholder.jpg
END:VEVENT
BEGIN:VEVENT
DTSTART;TZID=America/New_York:20240820T190000
DTEND;TZID=America/New_York:20240820T210000
DTSTAMP:20260421T152955
CREATED:20240801T121627Z
LAST-MODIFIED:20240801T121714Z
UID:5287-1724180400-1724187600@www.cloerfamilyvineyards.com
SUMMARY:Block Printing Class
DESCRIPTION:Join us for a fun and creative block printing tea towel class on August 20th from 7-9pm. Get your hands dirty and unleash your inner artist as you learn the art of block printing. No experience necessary…just bring your enthusiasm and we’ll provide the rest! This class is a perfect way to relax\, unwind and tap into your creativity! \nTo register: https://www.eventbrite.com/e/block-printing-class-cloer-family-vineyards-tickets-952287957917?utm_experiment=test_share_listing&aff=ebdsshios
URL:https://www.cloerfamilyvineyards.com/event/block-printing-class/
ATTACH;FMTTYPE=image/jpeg:https://www.cloerfamilyvineyards.com/wp/wp-content/uploads/2024/08/block-print.jpeg
END:VEVENT
END:VCALENDAR