BEGIN:VCALENDAR
VERSION:2.0
PRODID:-//Cloer Family Vineyards - ECPv6.15.20//NONSGML v1.0//EN
CALSCALE:GREGORIAN
METHOD:PUBLISH
X-WR-CALNAME:Cloer Family Vineyards
X-ORIGINAL-URL:https://www.cloerfamilyvineyards.com
X-WR-CALDESC:Events for Cloer Family Vineyards
REFRESH-INTERVAL;VALUE=DURATION:PT1H
X-Robots-Tag:noindex
X-PUBLISHED-TTL:PT1H
BEGIN:VTIMEZONE
TZID:America/New_York
BEGIN:DAYLIGHT
TZOFFSETFROM:-0500
TZOFFSETTO:-0400
TZNAME:EDT
DTSTART:20230312T070000
END:DAYLIGHT
BEGIN:STANDARD
TZOFFSETFROM:-0400
TZOFFSETTO:-0500
TZNAME:EST
DTSTART:20231105T060000
END:STANDARD
BEGIN:DAYLIGHT
TZOFFSETFROM:-0500
TZOFFSETTO:-0400
TZNAME:EDT
DTSTART:20240310T070000
END:DAYLIGHT
BEGIN:STANDARD
TZOFFSETFROM:-0400
TZOFFSETTO:-0500
TZNAME:EST
DTSTART:20241103T060000
END:STANDARD
BEGIN:DAYLIGHT
TZOFFSETFROM:-0500
TZOFFSETTO:-0400
TZNAME:EDT
DTSTART:20250309T070000
END:DAYLIGHT
BEGIN:STANDARD
TZOFFSETFROM:-0400
TZOFFSETTO:-0500
TZNAME:EST
DTSTART:20251102T060000
END:STANDARD
END:VTIMEZONE
BEGIN:VEVENT
DTSTART;TZID=America/New_York:20240720T120000
DTEND;TZID=America/New_York:20240720T140000
DTSTAMP:20260421T170419
CREATED:20240701T162450Z
LAST-MODIFIED:20240701T162450Z
UID:5267-1721476800-1721484000@www.cloerfamilyvineyards.com
SUMMARY:Summer Candle Making Experience & Wine at Cloer Family Vineyards
DESCRIPTION:Summertime is here and we’re celebrating with a scent blending and candle pouring workshop at Cloer Family Vineyards! \nIf you’ve never visited this family-owned and operated business tucked just minutes away from Downtown Apex\, this is the perfect time to visit. During your candle making experience\, we’ll walk through all of the steps to test\, blend and create your own one-of-a-kind fragrance oil. You’ll learn about some basic candle care and get to hear the story behind how Usu Company Candles started. \nWhile your candles are cooling down to take home\, enjoy your complimentary flight of 5 wines made right there at the Vineyard\, walk the property and explore the 5 acres of grape vines\, and stop by to see sheep & horses on the farm! \nSpaces are limited. Tickets are non-refundable. \nRegister now:  https://www.usucompany.com/candle-making-workshops/cloer720
URL:https://www.cloerfamilyvineyards.com/event/summer-candle-making-experience-wine-at-cloer-family-vineyards/
ATTACH;FMTTYPE=image/png:https://www.cloerfamilyvineyards.com/wp/wp-content/uploads/2024/07/CANDLEMAKINGATRIARIANPROVISIONCO.-17.png
END:VEVENT
BEGIN:VEVENT
DTSTART;TZID=America/New_York:20240727T120000
DTEND;TZID=America/New_York:20240727T140000
DTSTAMP:20260421T170419
CREATED:20240701T162914Z
LAST-MODIFIED:20240701T162914Z
UID:5270-1722081600-1722088800@www.cloerfamilyvineyards.com
SUMMARY:Resin Poured Charcuterie Boards
DESCRIPTION:Come join the pARTy ON WHEELS at CLOER FAMILY VINEYARDS in Apex! No artistic talent needed\, just the desire to have fun! \nEVENT BEGINS at 12:00pm\, this event is NOT BYOB. Wine & Design will supply all the resin materials and artist instruction for you need to complete your food-safe resin charcuterie board. Choose ANY shape\, colors and glitter! You will leave to boards to dry and we will contact you when they are ready to pick up at Wine & Design’s studio the following week! \nSupport local wines! Cloer Family Vineyards offers $6 glasses and wine flights\, or buy a bottle to share with friends! Snacks also available for purchase. \nIf meeting a friend(s) please list the name(s) of attendees in the comment box so we can seat you together. \nPayment is required at the time of registration. If you cannot make your payment online\, you must contact the studio to register with payment options otherwise your seat(s) is not guaranteed. Coupons/discounts not valid. Contact Info | 919-355-2855 | apex@wineanddesign.com \n*CANCELLATION POLICY: All sales final\, NO REFUNDS. Thank you for supporting small business and local artists! \nTo Register:  https://www.wineanddesign.com/calendar/apex-nc/event/on-wheels-cloer-family-vineyards-you-choose-resin-charcuterie-boards-1200pm
URL:https://www.cloerfamilyvineyards.com/event/resin-poured-charcuterie-boards/
ATTACH;FMTTYPE=image/jpeg:https://www.cloerfamilyvineyards.com/wp/wp-content/uploads/2024/07/Resin-Boards.jpeg
END:VEVENT
END:VCALENDAR