BEGIN:VCALENDAR
VERSION:2.0
PRODID:-//Cloer Family Vineyards - ECPv6.15.20//NONSGML v1.0//EN
CALSCALE:GREGORIAN
METHOD:PUBLISH
X-ORIGINAL-URL:https://www.cloerfamilyvineyards.com
X-WR-CALDESC:Events for Cloer Family Vineyards
REFRESH-INTERVAL;VALUE=DURATION:PT1H
X-Robots-Tag:noindex
X-PUBLISHED-TTL:PT1H
BEGIN:VTIMEZONE
TZID:America/New_York
BEGIN:DAYLIGHT
TZOFFSETFROM:-0500
TZOFFSETTO:-0400
TZNAME:EDT
DTSTART:20240310T070000
END:DAYLIGHT
BEGIN:STANDARD
TZOFFSETFROM:-0400
TZOFFSETTO:-0500
TZNAME:EST
DTSTART:20241103T060000
END:STANDARD
BEGIN:DAYLIGHT
TZOFFSETFROM:-0500
TZOFFSETTO:-0400
TZNAME:EDT
DTSTART:20250309T070000
END:DAYLIGHT
BEGIN:STANDARD
TZOFFSETFROM:-0400
TZOFFSETTO:-0500
TZNAME:EST
DTSTART:20251102T060000
END:STANDARD
BEGIN:DAYLIGHT
TZOFFSETFROM:-0500
TZOFFSETTO:-0400
TZNAME:EDT
DTSTART:20260308T070000
END:DAYLIGHT
BEGIN:STANDARD
TZOFFSETFROM:-0400
TZOFFSETTO:-0500
TZNAME:EST
DTSTART:20261101T060000
END:STANDARD
END:VTIMEZONE
BEGIN:VEVENT
DTSTART;TZID=America/New_York:20251213T120000
DTEND;TZID=America/New_York:20251213T140000
DTSTAMP:20260421T060912
CREATED:20251126T203907Z
LAST-MODIFIED:20251126T203907Z
UID:5516-1765627200-1765634400@www.cloerfamilyvineyards.com
SUMMARY:Holiday Candle Making
DESCRIPTION:Tis the season! We’re teaming up with our friends at USU Candles for a special candle pouring and wine tasting experience! \nDuring your workshop\, you’ll learn about the candle making process and the materials you’ll need\, test and select the fragrance oils for your candle\, and pour a custom-made candle to take home at the end of the day! \nAs a bonus\, you can choose from a flight of wines that are made right there on the vineyard or a glass of wine from their selection of 5 wines. You’re welcome to bring outside food to enjoy but Cloer also has “Make Your Own Charcuterie Baskets” for purchase with NC products such as cheeses\, salamis\, cheese straws\, cookies\, peanuts and much more. \nHoliday Candle Making & Wine Flight at Cloer Family Vineyard Tickets Include (per person): \n\n\n8 oz. candle jar \n\n\nComplimentary Wine or Wine Flight \n\n\nFragrance Oil Bar with up to 6 oils to test\, select\, and blend \n\n\nAll candle making materials including 100% vegan Soy wax\, wick\, oils\, etc. \n\n\nHand-on instruction \n\n\nShop from Usu Company Candle line for purchase \n\n\nGift Bag from Usu Company Candles \n\n\nTO REGISTER: https://www.usucompany.com/candle-making-workshops/cloerdecember13
URL:https://www.cloerfamilyvineyards.com/event/holiday-candle-making-2/
LOCATION:Cloer Family Vineyards
ATTACH;FMTTYPE=image/jpeg:https://www.cloerfamilyvineyards.com/wp/wp-content/uploads/2025/09/candle-making.jpeg
END:VEVENT
END:VCALENDAR