BEGIN:VCALENDAR
VERSION:2.0
PRODID:-//Cloer Family Vineyards - ECPv6.15.20//NONSGML v1.0//EN
CALSCALE:GREGORIAN
METHOD:PUBLISH
X-WR-CALNAME:Cloer Family Vineyards
X-ORIGINAL-URL:https://www.cloerfamilyvineyards.com
X-WR-CALDESC:Events for Cloer Family Vineyards
REFRESH-INTERVAL;VALUE=DURATION:PT1H
X-Robots-Tag:noindex
X-PUBLISHED-TTL:PT1H
BEGIN:VTIMEZONE
TZID:America/New_York
BEGIN:DAYLIGHT
TZOFFSETFROM:-0500
TZOFFSETTO:-0400
TZNAME:EDT
DTSTART:20240310T070000
END:DAYLIGHT
BEGIN:STANDARD
TZOFFSETFROM:-0400
TZOFFSETTO:-0500
TZNAME:EST
DTSTART:20241103T060000
END:STANDARD
BEGIN:DAYLIGHT
TZOFFSETFROM:-0500
TZOFFSETTO:-0400
TZNAME:EDT
DTSTART:20250309T070000
END:DAYLIGHT
BEGIN:STANDARD
TZOFFSETFROM:-0400
TZOFFSETTO:-0500
TZNAME:EST
DTSTART:20251102T060000
END:STANDARD
BEGIN:DAYLIGHT
TZOFFSETFROM:-0500
TZOFFSETTO:-0400
TZNAME:EDT
DTSTART:20260308T070000
END:DAYLIGHT
BEGIN:STANDARD
TZOFFSETFROM:-0400
TZOFFSETTO:-0500
TZNAME:EST
DTSTART:20261101T060000
END:STANDARD
END:VTIMEZONE
BEGIN:VEVENT
DTSTART;TZID=America/New_York:20250628T090000
DTEND;TZID=America/New_York:20250628T140000
DTSTAMP:20260421T140402
CREATED:20250502T171816Z
LAST-MODIFIED:20250502T171816Z
UID:5434-1751101200-1751119200@www.cloerfamilyvineyards.com
SUMMARY:She FARMS Apex 2025
DESCRIPTION:Ready to trade the hustle and bustle for fresh air\, wide-open fields\, and a taste of rural life? The She FARMS Apex Farm Tour invites you to step onto our working farms\, where you’ll connect with nature\, meet some friendly animals\, and discover the heart of sustainable farming. Perfect for families\, foodies\, or anyone curious about where produce and other commodities come from\, this is your chance to experience the farm life up close! \nDuring the tour\, meet the local women farmers that are the backbone of these thriving farms\, as well as some farm guests\, like master gardeners\, other farm producers\, county extension agents\, and children’s book authors\, just to name a few. Explore fields of juicy berries\, flowers\, grapes\, and Christmas trees. You will be able to hear stories from our farmers about daily life\, sustainable practices\, and the joys of working with nature. Watch some fun animals and bring home a piece of farm life with berries\, flowers\, wine and so much more available to purchase. Join us on a fun and educational adventure! Get your boots dirty\, snap some photos\, and leave with a newfound appreciation for farm-fresh living. \nTO REGISTER:  https://cloerfamilyvineyards.ticketspice.com/she-farms-apex-2025
URL:https://www.cloerfamilyvineyards.com/event/she-farms-apex-2025/
LOCATION:Cloer Family Vineyards
ATTACH;FMTTYPE=image/jpeg:https://www.cloerfamilyvineyards.com/wp/wp-content/uploads/2024/03/she-FARMS.jpg
END:VEVENT
END:VCALENDAR