BEGIN:VCALENDAR
VERSION:2.0
PRODID:-//Cloer Family Vineyards - ECPv6.15.20//NONSGML v1.0//EN
CALSCALE:GREGORIAN
METHOD:PUBLISH
X-ORIGINAL-URL:https://www.cloerfamilyvineyards.com
X-WR-CALDESC:Events for Cloer Family Vineyards
REFRESH-INTERVAL;VALUE=DURATION:PT1H
X-Robots-Tag:noindex
X-PUBLISHED-TTL:PT1H
BEGIN:VTIMEZONE
TZID:America/New_York
BEGIN:DAYLIGHT
TZOFFSETFROM:-0500
TZOFFSETTO:-0400
TZNAME:EDT
DTSTART:20240310T070000
END:DAYLIGHT
BEGIN:STANDARD
TZOFFSETFROM:-0400
TZOFFSETTO:-0500
TZNAME:EST
DTSTART:20241103T060000
END:STANDARD
BEGIN:DAYLIGHT
TZOFFSETFROM:-0500
TZOFFSETTO:-0400
TZNAME:EDT
DTSTART:20250309T070000
END:DAYLIGHT
BEGIN:STANDARD
TZOFFSETFROM:-0400
TZOFFSETTO:-0500
TZNAME:EST
DTSTART:20251102T060000
END:STANDARD
BEGIN:DAYLIGHT
TZOFFSETFROM:-0500
TZOFFSETTO:-0400
TZNAME:EDT
DTSTART:20260308T070000
END:DAYLIGHT
BEGIN:STANDARD
TZOFFSETFROM:-0400
TZOFFSETTO:-0500
TZNAME:EST
DTSTART:20261101T060000
END:STANDARD
END:VTIMEZONE
BEGIN:VEVENT
DTSTART;TZID=America/New_York:20250426T130000
DTEND;TZID=America/New_York:20250426T160000
DTSTAMP:20260421T113533
CREATED:20250404T171621Z
LAST-MODIFIED:20250404T171621Z
UID:5411-1745672400-1745683200@www.cloerfamilyvineyards.com
SUMMARY:A Vineyard Day with Dooley & Rooster
DESCRIPTION:Fun for the Whole Family\nMeet & Greet with Dooley and Rooster \nSpring’s gentle touch is awakening the vineyard\, and you’re invited to witness it alongside the charming Highland cows\, Dooley and Rooster\, from Jonestead Farm! Their shaggy coats and impressive horns create a stunning contrast against the vibrant green of the emerging foliage. \nCome stroll through the vineyard\, breathe in the crisp spring air\, and capture the perfect photo of these magnificent creatures. Observe their gentle grazing\, witness their peaceful presence\, and enjoy meeting these precious boys! \nThis is more than just a visit; it’s an opportunity to connect with nature\, experience the rustic beauty of the Highlands\, and welcome the new season with Dooley and Rooster. Spring’s arrival in the vineyard is a sight to behold\, and sharing it with these gentle giants makes it truly unforgettable. Join us and make some spring memories! \nThis event is NOT for professional photographers! \nWARNING:  \nUnder North Carolina Law\, a farm animal activity sponsor or farm animal professional is not liable for an injury to or the death of a participant in farm animal activities resulting exclusively from the inherent risks of farm animal activities. Chapter 99E of the North Carolina General Statutes. \nREGISTRATION IS REQUIRED! \nTO REGISTER: https://cloerfamilyvineyards.ticketspice.com/spring-cow-cuddles-on-the-farm
URL:https://www.cloerfamilyvineyards.com/event/a-vineyard-day-with-dooley-rooster/
LOCATION:Cloer Family Vineyards
ATTACH;FMTTYPE=image/jpeg:https://www.cloerfamilyvineyards.com/wp/wp-content/uploads/2025/04/image1-1.jpeg
END:VEVENT
END:VCALENDAR