BEGIN:VCALENDAR
VERSION:2.0
PRODID:-//Cloer Family Vineyards - ECPv6.15.20//NONSGML v1.0//EN
CALSCALE:GREGORIAN
METHOD:PUBLISH
X-WR-CALNAME:Cloer Family Vineyards
X-ORIGINAL-URL:https://www.cloerfamilyvineyards.com
X-WR-CALDESC:Events for Cloer Family Vineyards
REFRESH-INTERVAL;VALUE=DURATION:PT1H
X-Robots-Tag:noindex
X-PUBLISHED-TTL:PT1H
BEGIN:VTIMEZONE
TZID:America/New_York
BEGIN:DAYLIGHT
TZOFFSETFROM:-0500
TZOFFSETTO:-0400
TZNAME:EDT
DTSTART:20240310T070000
END:DAYLIGHT
BEGIN:STANDARD
TZOFFSETFROM:-0400
TZOFFSETTO:-0500
TZNAME:EST
DTSTART:20241103T060000
END:STANDARD
BEGIN:DAYLIGHT
TZOFFSETFROM:-0500
TZOFFSETTO:-0400
TZNAME:EDT
DTSTART:20250309T070000
END:DAYLIGHT
BEGIN:STANDARD
TZOFFSETFROM:-0400
TZOFFSETTO:-0500
TZNAME:EST
DTSTART:20251102T060000
END:STANDARD
BEGIN:DAYLIGHT
TZOFFSETFROM:-0500
TZOFFSETTO:-0400
TZNAME:EDT
DTSTART:20260308T070000
END:DAYLIGHT
BEGIN:STANDARD
TZOFFSETFROM:-0400
TZOFFSETTO:-0500
TZNAME:EST
DTSTART:20261101T060000
END:STANDARD
END:VTIMEZONE
BEGIN:VEVENT
DTSTART;TZID=America/New_York:20250415T190000
DTEND;TZID=America/New_York:20250415T210000
DTSTAMP:20260421T110352
CREATED:20250324T142243Z
LAST-MODIFIED:20250324T142243Z
UID:5407-1744743600-1744750800@www.cloerfamilyvineyards.com
SUMMARY:Easter Cookie Decorating Class
DESCRIPTION:Join Sugar Sugar at Cloer Family Vineyards on Tuesday\, April 15th to make this sweet Easter themed cookie set! \nEverything you need will be provided – 6 of my signature vanilla-almond sugar cookies\, royal icing colored and adjusted to the correct consistency\, along with all tools and other materials we’ll use\, and guided\, hands-on instruction. \nClasses are always a lot of fun! \nDue to very limited space\, each person attending must have a paid registration. Each registration also includes a complimentary beverage from Cloer’s tasting room (must be 21+ to order wine). \nTO REGISTER: https://www.sugarsugarnc.com/shop/p/easter-cookie-class-at-cloer-family-vineyards-1
URL:https://www.cloerfamilyvineyards.com/event/easter-cookie-decorating-class/
LOCATION:Cloer Family Vineyards
ATTACH;FMTTYPE=image/jpeg:https://www.cloerfamilyvineyards.com/wp/wp-content/uploads/2025/03/easter-cookies.jpeg
END:VEVENT
END:VCALENDAR