BEGIN:VCALENDAR
VERSION:2.0
PRODID:-//Cloer Family Vineyards - ECPv6.15.20//NONSGML v1.0//EN
CALSCALE:GREGORIAN
METHOD:PUBLISH
X-WR-CALNAME:Cloer Family Vineyards
X-ORIGINAL-URL:https://www.cloerfamilyvineyards.com
X-WR-CALDESC:Events for Cloer Family Vineyards
REFRESH-INTERVAL;VALUE=DURATION:PT1H
X-Robots-Tag:noindex
X-PUBLISHED-TTL:PT1H
BEGIN:VTIMEZONE
TZID:America/New_York
BEGIN:DAYLIGHT
TZOFFSETFROM:-0500
TZOFFSETTO:-0400
TZNAME:EDT
DTSTART:20240310T070000
END:DAYLIGHT
BEGIN:STANDARD
TZOFFSETFROM:-0400
TZOFFSETTO:-0500
TZNAME:EST
DTSTART:20241103T060000
END:STANDARD
BEGIN:DAYLIGHT
TZOFFSETFROM:-0500
TZOFFSETTO:-0400
TZNAME:EDT
DTSTART:20250309T070000
END:DAYLIGHT
BEGIN:STANDARD
TZOFFSETFROM:-0400
TZOFFSETTO:-0500
TZNAME:EST
DTSTART:20251102T060000
END:STANDARD
BEGIN:DAYLIGHT
TZOFFSETFROM:-0500
TZOFFSETTO:-0400
TZNAME:EDT
DTSTART:20260308T070000
END:DAYLIGHT
BEGIN:STANDARD
TZOFFSETFROM:-0400
TZOFFSETTO:-0500
TZNAME:EST
DTSTART:20261101T060000
END:STANDARD
END:VTIMEZONE
BEGIN:VEVENT
DTSTART;TZID=America/New_York:20250124T190000
DTEND;TZID=America/New_York:20250124T210000
DTSTAMP:20260421T093708
CREATED:20250108T162828Z
LAST-MODIFIED:20250108T162828Z
UID:5364-1737745200-1737752400@www.cloerfamilyvineyards.com
SUMMARY:Winter Cabin Painting
DESCRIPTION:Join Cloer Family Vineyards and Wine & Design Apex for a fun Friday evening of wine and painting! \nCLASS BEGINS at 7:00pm\, this event is NOT BYOB. Support local wines! Cloer Family Vineyards has wine and snacks available for purchase! \nIf meeting a friend(s) please list the name(s) of attendees in the comment box so we can seat you together. \nPayment is required at the time of registration. If you cannot make your payment online\, you must contact the studio to register with payment options otherwise your seat(s) is not guaranteed. Coupons/discounts not valid. Contact Info | 919-355-2855 | apex@wineanddesign.com \n*CANCELLATION POLICY: All sales final\, NO REFUNDS. Thank you for supporting small business and local artists! We need 5+ people to hold this event. If less than 5 people\, you will be contacted and issued a CREDIT or TRANSFER to another class\, all sales final\, NO REFUNDS. \nTo register:  https://www.wineanddesign.com/calendar/apex-nc/event/winter-cabin-700-900pm-1
URL:https://www.cloerfamilyvineyards.com/event/winter-cabin-painting/
LOCATION:Cloer Family Vineyards
ATTACH;FMTTYPE=image/jpeg:https://www.cloerfamilyvineyards.com/wp/wp-content/uploads/2025/01/winter-cabin.jpeg
END:VEVENT
END:VCALENDAR