BEGIN:VCALENDAR
VERSION:2.0
PRODID:-//Cloer Family Vineyards - ECPv6.15.20//NONSGML v1.0//EN
CALSCALE:GREGORIAN
METHOD:PUBLISH
X-WR-CALNAME:Cloer Family Vineyards
X-ORIGINAL-URL:https://www.cloerfamilyvineyards.com
X-WR-CALDESC:Events for Cloer Family Vineyards
REFRESH-INTERVAL;VALUE=DURATION:PT1H
X-Robots-Tag:noindex
X-PUBLISHED-TTL:PT1H
BEGIN:VTIMEZONE
TZID:America/New_York
BEGIN:DAYLIGHT
TZOFFSETFROM:-0500
TZOFFSETTO:-0400
TZNAME:EDT
DTSTART:20230312T070000
END:DAYLIGHT
BEGIN:STANDARD
TZOFFSETFROM:-0400
TZOFFSETTO:-0500
TZNAME:EST
DTSTART:20231105T060000
END:STANDARD
BEGIN:DAYLIGHT
TZOFFSETFROM:-0500
TZOFFSETTO:-0400
TZNAME:EDT
DTSTART:20240310T070000
END:DAYLIGHT
BEGIN:STANDARD
TZOFFSETFROM:-0400
TZOFFSETTO:-0500
TZNAME:EST
DTSTART:20241103T060000
END:STANDARD
BEGIN:DAYLIGHT
TZOFFSETFROM:-0500
TZOFFSETTO:-0400
TZNAME:EDT
DTSTART:20250309T070000
END:DAYLIGHT
BEGIN:STANDARD
TZOFFSETFROM:-0400
TZOFFSETTO:-0500
TZNAME:EST
DTSTART:20251102T060000
END:STANDARD
END:VTIMEZONE
BEGIN:VEVENT
DTSTART;TZID=America/New_York:20241207T140000
DTEND;TZID=America/New_York:20241207T160000
DTSTAMP:20260421T111625
CREATED:20241020T234641Z
LAST-MODIFIED:20241020T234641Z
UID:5341-1733580000-1733587200@www.cloerfamilyvineyards.com
SUMMARY:Christmas Cookie Decorating Class
DESCRIPTION:Join us on Saturday\, December 7th\, as we decorate a set of 6 custom designed sugar cookies. \nEverything you need will be provided – 6 of our signature vanilla-almond sugar cookies per person\, royal icing\, colored and mixed to the correct consistency\, hands on\, step-by-step instruction\, plus all the tools and materials you will need! \nEveryone attending must have a paid registration. Due to space limitations\, we cannot accommodate observers or shared sets. \nYour registration includes one complimentary beverage from Cloer’s tasting room (must be 21+ to consume wine). \nTo register:  https://www.sugarsugarnc.com/shop/p/cloer-christmas-cookies
URL:https://www.cloerfamilyvineyards.com/event/christmas-cookie-decorating-class/
ATTACH;FMTTYPE=image/jpeg:https://www.cloerfamilyvineyards.com/wp/wp-content/uploads/2024/10/dec-cookie.jpeg
END:VEVENT
END:VCALENDAR