BEGIN:VCALENDAR
VERSION:2.0
PRODID:-//Cloer Family Vineyards - ECPv6.15.20//NONSGML v1.0//EN
CALSCALE:GREGORIAN
METHOD:PUBLISH
X-ORIGINAL-URL:https://www.cloerfamilyvineyards.com
X-WR-CALDESC:Events for Cloer Family Vineyards
REFRESH-INTERVAL;VALUE=DURATION:PT1H
X-Robots-Tag:noindex
X-PUBLISHED-TTL:PT1H
BEGIN:VTIMEZONE
TZID:America/New_York
BEGIN:DAYLIGHT
TZOFFSETFROM:-0500
TZOFFSETTO:-0400
TZNAME:EDT
DTSTART:20230312T070000
END:DAYLIGHT
BEGIN:STANDARD
TZOFFSETFROM:-0400
TZOFFSETTO:-0500
TZNAME:EST
DTSTART:20231105T060000
END:STANDARD
BEGIN:DAYLIGHT
TZOFFSETFROM:-0500
TZOFFSETTO:-0400
TZNAME:EDT
DTSTART:20240310T070000
END:DAYLIGHT
BEGIN:STANDARD
TZOFFSETFROM:-0400
TZOFFSETTO:-0500
TZNAME:EST
DTSTART:20241103T060000
END:STANDARD
BEGIN:DAYLIGHT
TZOFFSETFROM:-0500
TZOFFSETTO:-0400
TZNAME:EDT
DTSTART:20250309T070000
END:DAYLIGHT
BEGIN:STANDARD
TZOFFSETFROM:-0400
TZOFFSETTO:-0500
TZNAME:EST
DTSTART:20251102T060000
END:STANDARD
END:VTIMEZONE
BEGIN:VEVENT
DTSTART;TZID=America/New_York:20241116T120000
DTEND;TZID=America/New_York:20241116T140000
DTSTAMP:20260421T123825
CREATED:20240823T164040Z
LAST-MODIFIED:20240823T164040Z
UID:5307-1731758400-1731765600@www.cloerfamilyvineyards.com
SUMMARY:Acryllic Pour Wine Glasses
DESCRIPTION:Join the pARTy ON WHEELS at CLOER FAMILY VINEYARDS in Apex! No artistic talent needed\, just the desire to have fun! \nWINE IS NOT INCLUDED. Cloer Wine Specials: $6 Wine Flights & $6 per glass! Snacks such as cheese and cracker plates are also available to purchase. This event is NOT BYOB. Support local wines! \nCreate you own set of TWO Acrylic Pour Wine Glasses! Choose Your Colors! No artistic talent needed\, just the desire to have fun! *This class may only take 45min-1 hour. Your wine glasses will be very wet after class and you will leave your glasses to dry. Please allow 7-10 days for your glasses to be ready for pick-up at Wine & Design Apex (5456 Apex Peakway\, Apex\, NC). WE WILL CONTACT YOU when they are ready. All projects must be picked up within 30 days! \nTO REGISTER:  https://www.wineanddesign.com/calendar/apex-nc/event/on-wheels-cloer-family-vineyards-acrylic-pour-wine-glasses-1200pm
URL:https://www.cloerfamilyvineyards.com/event/acryllic-pour-wine-glasses-2/
ATTACH;FMTTYPE=image/jpeg:https://www.cloerfamilyvineyards.com/wp/wp-content/uploads/2024/07/acrylic-pour-wine-glasses-placeholder.jpg
END:VEVENT
END:VCALENDAR