BEGIN:VCALENDAR
VERSION:2.0
PRODID:-//Cloer Family Vineyards - ECPv6.15.20//NONSGML v1.0//EN
CALSCALE:GREGORIAN
METHOD:PUBLISH
X-WR-CALNAME:Cloer Family Vineyards
X-ORIGINAL-URL:https://www.cloerfamilyvineyards.com
X-WR-CALDESC:Events for Cloer Family Vineyards
REFRESH-INTERVAL;VALUE=DURATION:PT1H
X-Robots-Tag:noindex
X-PUBLISHED-TTL:PT1H
BEGIN:VTIMEZONE
TZID:America/New_York
BEGIN:DAYLIGHT
TZOFFSETFROM:-0500
TZOFFSETTO:-0400
TZNAME:EDT
DTSTART:20230312T070000
END:DAYLIGHT
BEGIN:STANDARD
TZOFFSETFROM:-0400
TZOFFSETTO:-0500
TZNAME:EST
DTSTART:20231105T060000
END:STANDARD
BEGIN:DAYLIGHT
TZOFFSETFROM:-0500
TZOFFSETTO:-0400
TZNAME:EDT
DTSTART:20240310T070000
END:DAYLIGHT
BEGIN:STANDARD
TZOFFSETFROM:-0400
TZOFFSETTO:-0500
TZNAME:EST
DTSTART:20241103T060000
END:STANDARD
BEGIN:DAYLIGHT
TZOFFSETFROM:-0500
TZOFFSETTO:-0400
TZNAME:EDT
DTSTART:20250309T070000
END:DAYLIGHT
BEGIN:STANDARD
TZOFFSETFROM:-0400
TZOFFSETTO:-0500
TZNAME:EST
DTSTART:20251102T060000
END:STANDARD
END:VTIMEZONE
BEGIN:VEVENT
DTSTART;TZID=America/New_York:20241109T120000
DTEND;TZID=America/New_York:20241109T140000
DTSTAMP:20260421T123729
CREATED:20240801T122250Z
LAST-MODIFIED:20240801T122319Z
UID:5291-1731153600-1731160800@www.cloerfamilyvineyards.com
SUMMARY:Fall Candle Making Experience & Wine at Cloer Family Vineyards
DESCRIPTION:Fall is here and we’re celebrating with a scent blending and candle pouring workshop at Cloer Family Vineyards! \nIf you’ve never visited this family-owned and operated business tucked just minutes away from Downtown Apex\, this is the perfect time to visit. During your candle making experience\, we’ll walk through all of the steps to test\, blend and create your own one-of-a-kind fragrance oil. You’ll learn about some basic candle care and get to hear the story behind how Usu Company Candles started. \nWhile your candles are cooling down to take home\, enjoy your complimentary flight of 5 wines made right there at the Vineyard\, walk the property and explore the 5 acres of grape vines\, and stop by to see sheep & horses on the farm! \nSpaces are limited. Tickets are non-refundable. \nRegistration coming soon!
URL:https://www.cloerfamilyvineyards.com/event/summer-candle-making-experience-wine-at-cloer-family-vineyards-2/
ATTACH;FMTTYPE=image/jpeg:https://www.cloerfamilyvineyards.com/wp/wp-content/uploads/2024/08/candle-making.jpeg
END:VEVENT
BEGIN:VEVENT
DTSTART;TZID=America/New_York:20241109T140000
DTEND;TZID=America/New_York:20241109T164500
DTSTAMP:20260421T123729
CREATED:20240919T011950Z
LAST-MODIFIED:20241010T184458Z
UID:5321-1731160800-1731170700@www.cloerfamilyvineyards.com
SUMMARY:Santa in the Vineyard Photoshoot
DESCRIPTION:Santa is coming to Cloer Family Vineyards on Saturday\, November 9th\, so join him in the vineyard for a mini photo session. Price includes: \n\n10 minute session with Santa\n5 edited images (emailed 10 days after the shoot)\nAdditional photos may be purchased.\nFamilies should arrive dressed and check-in 15 prior to their session time.\nFive person maximum per session.\nNO pets are allowed.\nEach adult will get a glass of mulled wine and kids will get a special treat.\nMake a bag of Reindeer food\nMake a Reindeer cork ornament\n\n\n\n                \n                        Available timesots\n			\n					\n					2:00 pm\n			\n			\n					\n					2:15 pm\n			\n			\n					\n					2:30 pm\n			\n			\n					\n					2:45 pm\n			\n			\n					\n					3:00 pm\n			\n			\n					\n					3:15 pm\n			\n			\n					\n					3:45 pm\n			Name\n                            \n                            \n                                                    \n                                                    First\n                                                \n                            \n                            \n                                                    \n                                                    Last\n                                                \n                            \n                        Email\n                            \n                        PhoneHow many adults will be photographed?How many children will be photographed?Is there anything else we should know?Santa in the Vineyard Photoshoot (with Transaction Fees)\n					\n					\n						Price:\n						\n					\n					\n				Payment MethodPayPal CheckoutCredit Card\n                                    MasterCardVisaSupported Credit Cards: MasterCard\, Visa\n                                    \n                                    Card Number\n                                 \n                                            \n                                                \n                                                Expiration Date\n                                            \n                                                \n                                                 \n                                                Security Code\n                                             \n                                        \n                                            \n                                            Cardholder Name\n                                         CAPTCHA
URL:https://www.cloerfamilyvineyards.com/event/santa-in-the-vineyard-photoshoot/
ATTACH;FMTTYPE=image/jpeg:https://www.cloerfamilyvineyards.com/wp/wp-content/uploads/2024/09/santavineyard.jpg
END:VEVENT
END:VCALENDAR