BEGIN:VCALENDAR
VERSION:2.0
PRODID:-//Cloer Family Vineyards - ECPv6.15.20//NONSGML v1.0//EN
CALSCALE:GREGORIAN
METHOD:PUBLISH
X-ORIGINAL-URL:https://www.cloerfamilyvineyards.com
X-WR-CALDESC:Events for Cloer Family Vineyards
REFRESH-INTERVAL;VALUE=DURATION:PT1H
X-Robots-Tag:noindex
X-PUBLISHED-TTL:PT1H
BEGIN:VTIMEZONE
TZID:America/New_York
BEGIN:DAYLIGHT
TZOFFSETFROM:-0500
TZOFFSETTO:-0400
TZNAME:EDT
DTSTART:20230312T070000
END:DAYLIGHT
BEGIN:STANDARD
TZOFFSETFROM:-0400
TZOFFSETTO:-0500
TZNAME:EST
DTSTART:20231105T060000
END:STANDARD
BEGIN:DAYLIGHT
TZOFFSETFROM:-0500
TZOFFSETTO:-0400
TZNAME:EDT
DTSTART:20240310T070000
END:DAYLIGHT
BEGIN:STANDARD
TZOFFSETFROM:-0400
TZOFFSETTO:-0500
TZNAME:EST
DTSTART:20241103T060000
END:STANDARD
BEGIN:DAYLIGHT
TZOFFSETFROM:-0500
TZOFFSETTO:-0400
TZNAME:EDT
DTSTART:20250309T070000
END:DAYLIGHT
BEGIN:STANDARD
TZOFFSETFROM:-0400
TZOFFSETTO:-0500
TZNAME:EST
DTSTART:20251102T060000
END:STANDARD
END:VTIMEZONE
BEGIN:VEVENT
DTSTART;TZID=America/New_York:20241103T140000
DTEND;TZID=America/New_York:20241103T160000
DTSTAMP:20260421T123944
CREATED:20241020T235302Z
LAST-MODIFIED:20241020T235637Z
UID:5344-1730642400-1730649600@www.cloerfamilyvineyards.com
SUMMARY:2nd Annual Sip and Support Be The Rainbow Foundation
DESCRIPTION:Celebrating our supporters and sharing our mission to help families facing childhood cancer\nPlease join us November 3rd from 2-4pm for our second annual Sip and Support Be The Rainbow Foundation event at the beautiful Cloer Family Vineyards in Apex\, NC! This is a fun\, family friendly community event where we will gather for an afternoon of wine tasting\, games\, kids activities\, frozen treat from Shake Shack\, raffles and a silent auction! Please bring a friend and help us share our mission within our local community! We look forward to gathering with our supporters and sharing our mission! We are so grateful for your help which enables us to offer a variety of assistance to families facing childhood cancer both here in North Carolina\, as well as across the U.S. We can’t wait to see you all there! \n\nEvent Details: \n\n2pm–Check in at registration table: get your wine ticket and door prize raffle ticket (admission ticket purchased day of is $35)\nMingle\, sip wine\, browse raffle items and silent auction items. Raffle tickets will be for sale for $5 or 5 for $20\nCorn hole\, table games\, facepainting\, and Sunny the Fun Fairy will be on site to spread fun and joy\nShake Shack will be here providing some of their custom frozen custard!\nFeel free to bring any picnic food\, or items will be available for purchase directly from Cloer\nPurchase any bottles of Cloer wine and 10% of proceeds will come back to Be The Rainbow Foundation\nBTRF Merchandise will be for sale\n3:30–Silent Auction wraps up\, short presentation from Be The Rainbow Foundation\, door prize and raffle drawings\n4pm–event concludes\n\nTo register: https://betherainbow.networkforgood.com/events/77380-2nd-annual-sip-and-support-be-the-rainbow-foundation
URL:https://www.cloerfamilyvineyards.com/event/2nd-annual-sip-and-support-be-the-rainbow-foundation/
ATTACH;FMTTYPE=image/jpeg:https://www.cloerfamilyvineyards.com/wp/wp-content/uploads/2024/10/betherainbow.jpg
END:VEVENT
END:VCALENDAR